BEGIN:VCALENDAR
VERSION:2.0
PRODID:Visitas Domiciliárias
X-WR-CALNAME:Visitas Domiciliárias
X-WR-TIMEZONE:Europe/Lisbon
X-PUBLISHED-TTL:P1W
BEGIN:VTIMEZONE
TZID:Europe/Lisbon
X-LIC-LOCATION:Europe/Lisbon
END:VTIMEZONE
BEGIN:VEVENT
UID:69e8d74987c9e
DTSTART;VALUE=DATE:20260411
SEQUENCE:0
TRANSP:OPAQUE
DTEND;VALUE=DATE:20260412
SUMMARY:Visitas Domiciliárias
CLASS:PUBLIC
DESCRIPTION:A Junta de Freguesia de Fornelos vai voltar a promover visitas 
 ao domicílio dirigidas a pessoas em situação de maior vulnerabilidade\,
  com especial enfoque na população mais idosa.Esta ação pretende conhe
 cer melhor as necessidades da comunidade\, apoiar o bem-estar dos resident
 es e fortalecer a proximidade com todos\, garantindo um acompanhamento mai
 s atento a quem mais necessita.Para obter mais informações ou sinalizar 
 situações que careçam de apoio\, os interessados poderão entrar em con
 tacto com a Junta de Freguesia ou deslocar-se às suas instalações.
X-MICROSOFT-CDO-ALLDAYEVENT:TRUE
DTSTAMP:20260422T141225Z
END:VEVENT
END:VCALENDAR