BEGIN:VCALENDAR
VERSION:2.0
PRODID:Caminhada pela Liberdade
X-WR-CALNAME:Caminhada pela Liberdade
X-WR-TIMEZONE:Europe/Lisbon
X-PUBLISHED-TTL:P1W
BEGIN:VTIMEZONE
TZID:Europe/Lisbon
X-LIC-LOCATION:Europe/Lisbon
END:VTIMEZONE
BEGIN:VEVENT
UID:69e8d7fc56933
DTSTART;VALUE=DATE:20260412
SEQUENCE:0
TRANSP:OPAQUE
DTEND;VALUE=DATE:20260413
SUMMARY:Caminhada pela Liberdade
CLASS:PUBLIC
DESCRIPTION:O Movimento Amigos de Stª Comba de Fornelos vai promover\, no 
 próximo dia 12 de abril\, uma caminhada ao longo do corredor ecológico d
 o Rio Vizela.O percurso terá início em Fornelos e seguirá até à Barra
 gem de Queimadela\, proporcionando um momento de convívio e contacto com 
 a natureza.A participação tem um custo de 5€ por pessoa. As inscriçõ
 es já se encontram abertas.Consulte mais informações no cartaz do event
 o.
X-MICROSOFT-CDO-ALLDAYEVENT:TRUE
DTSTAMP:20260422T141524Z
END:VEVENT
END:VCALENDAR