BEGIN:VCALENDAR
VERSION:2.0
PRODID:Passeio Convívio da Associação Sereno Remate
X-WR-CALNAME:Passeio Convívio da Associação Sereno Remate
X-WR-TIMEZONE:Europe/Lisbon
X-PUBLISHED-TTL:P1W
BEGIN:VTIMEZONE
TZID:Europe/Lisbon
X-LIC-LOCATION:Europe/Lisbon
END:VTIMEZONE
BEGIN:VEVENT
UID:69e8c289ef51e
DTSTART;VALUE=DATE:20260523
SEQUENCE:0
TRANSP:OPAQUE
DTEND;VALUE=DATE:20260524
SUMMARY:Passeio Convívio da Associação Sereno Remate
CLASS:PUBLIC
DESCRIPTION:A Associação do Sereno Remate irá realizar do seu Passeio Co
 nvívio no próximo dia 23 de maio.O programa inclui visitas a Ponte da Ba
 rca\, Soajo\, Monção\, Valença e Ponte de Lima\, proporcionando um dia 
 repleto de boa disposição\, convívio e paisagens únicas.A participaç
 ão é gratuita para sócios\, sendo aplicado um custo de 10\,00 € para 
 não sócios.As inscrições podem ser efetuadas junto do Senhor Fernando 
 Freitas\, através do número 919 846 001.A Associação conta com a prese
 nça de todos para mais um momento especial de partilha e amizade!
X-MICROSOFT-CDO-ALLDAYEVENT:TRUE
DTSTAMP:20260422T124354Z
END:VEVENT
END:VCALENDAR