BEGIN:VCALENDAR
VERSION:2.0
PRODID:Hora do Planeta
X-WR-CALNAME:Hora do Planeta
X-WR-TIMEZONE:Europe/Lisbon
X-PUBLISHED-TTL:P1W
BEGIN:VTIMEZONE
TZID:Europe/Lisbon
X-LIC-LOCATION:Europe/Lisbon
END:VTIMEZONE
BEGIN:VEVENT
UID:69e89ccaac65c
DTSTART;VALUE=DATE:20260328
SEQUENCE:0
TRANSP:OPAQUE
DTEND;VALUE=DATE:20260329
SUMMARY:Hora do Planeta
CLASS:PUBLIC
DESCRIPTION:A Hora do Planeta 2026 assinala um marco muito especial: 20 ano
 s de mobilização global em defesa do ambiente. Desde a sua primeira edi
 ção\, promovida pela World Wide Fund for Nature\, esta iniciativa tem in
 spirado milhões de pessoas\, instituições e autarquias em todo o mundo 
 a desligarem as luzes durante uma hora\, simbolizando o compromisso coleti
 vo com a ação climática e a proteção da natureza.Ao longo destas duas
  décadas\, a Hora do Planeta tornou-se um dos maiores movimentos ambienta
 is globais\, envolvendo cidades\, empresas e cidadãos em mais de 190 paí
 ses.  Em 2026\, a Junta de Freguesia de Fornelos associa-se a esta celebra
 ção\, reforçando o seu compromisso com a sustentabilidade e a sensibili
 zação da comunidade local para a importância de pequenas ações que fa
 zem uma grande diferença. Ao participar nesta iniciativa\, Fornelos junta
 -se a milhões de vozes que\, durante uma hora\, se unem pelo futuro do pl
 aneta.
X-MICROSOFT-CDO-ALLDAYEVENT:TRUE
DTSTAMP:20260422T100250Z
END:VEVENT
END:VCALENDAR